Package: compcodeR Version: 1.42.0 Command: F:\biocbuild\bbs-3.20-bioc\R\bin\R.exe CMD check --no-multiarch --install=check:compcodeR.install-out.txt --library=F:\biocbuild\bbs-3.20-bioc\R\library --no-vignettes --timings compcodeR_1.42.0.tar.gz StartedAt: 2025-01-31 00:45:41 -0500 (Fri, 31 Jan 2025) EndedAt: 2025-01-31 00:53:08 -0500 (Fri, 31 Jan 2025) EllapsedTime: 447.2 seconds RetCode: 0 Status: OK CheckDir: compcodeR.Rcheck Warnings: 0