Package: compcodeR Version: 1.42.0 Command: chmod a+r compcodeR -R && F:\biocbuild\bbs-3.20-bioc\R\bin\R.exe CMD build --keep-empty-dirs --no-resave-data compcodeR StartedAt: 2025-01-30 18:04:33 -0500 (Thu, 30 Jan 2025) EndedAt: 2025-01-30 18:05:30 -0500 (Thu, 30 Jan 2025) EllapsedTime: 57.7 seconds RetCode: 0 Status: OK PackageFile: compcodeR_1.42.0.tar.gz PackageFileSize: 4.687 MiB