Package: compcodeR Version: 1.42.0 Command: /home/biocbuild/bbs-3.20-bioc/R/bin/R CMD build --keep-empty-dirs --no-resave-data --md5 compcodeR StartedAt: 2025-03-31 16:46:22 -0400 (Mon, 31 Mar 2025) EndedAt: 2025-03-31 16:46:42 -0400 (Mon, 31 Mar 2025) EllapsedTime: 20.0 seconds RetCode: 0 Status: OK PackageFile: compcodeR_1.42.0.tar.gz PackageFileSize: 4.748 MiB