Package: compcodeR Version: 1.42.0 Command: /Library/Frameworks/R.framework/Resources/bin/R CMD build --keep-empty-dirs --no-resave-data compcodeR StartedAt: 2025-03-31 21:14:26 -0400 (Mon, 31 Mar 2025) EndedAt: 2025-03-31 21:14:52 -0400 (Mon, 31 Mar 2025) EllapsedTime: 26.7 seconds RetCode: 0 Status: OK PackageFile: compcodeR_1.42.0.tar.gz PackageFileSize: 4.74 MiB