Package: compcodeR Version: 1.42.0 Command: rm -rf compcodeR.buildbin-libdir && mkdir compcodeR.buildbin-libdir && /Users/biocbuild/BBS/utils/build-universal.sh compcodeR_1.42.0.tar.gz /Library/Frameworks/R.framework/Resources/bin/R compcodeR.buildbin-libdir StartedAt: 2025-04-02 13:50:14 -0400 (Wed, 02 Apr 2025) EndedAt: 2025-04-02 13:50:31 -0400 (Wed, 02 Apr 2025) EllapsedTime: 17.1 seconds RetCode: 0 Status: OK PackageFile: compcodeR_1.42.0.tgz PackageFileSize: 2.699 MiB