Package: compSPOT Version: 1.4.0 Command: /home/biocbuild/R/R/bin/R CMD build --keep-empty-dirs --no-resave-data compSPOT StartedAt: 2025-03-31 22:42:53 -0000 (Mon, 31 Mar 2025) EndedAt: 2025-03-31 22:43:23 -0000 (Mon, 31 Mar 2025) EllapsedTime: 30.0 seconds RetCode: 0 Status: OK PackageFile: compSPOT_1.4.0.tar.gz PackageFileSize: 462.5 KiB