Package: combi Version: 1.18.0 Command: chmod a+r combi -R && F:\biocbuild\bbs-3.20-bioc\R\bin\R.exe CMD build --keep-empty-dirs --no-resave-data combi StartedAt: 2025-01-27 18:06:14 -0500 (Mon, 27 Jan 2025) EndedAt: 2025-01-27 18:09:27 -0500 (Mon, 27 Jan 2025) EllapsedTime: 193.1 seconds RetCode: 0 Status: OK PackageFile: combi_1.18.0.tar.gz PackageFileSize: 1.175 MiB