Package: combi Version: 1.18.0 Command: rm -rf combi.buildbin-libdir && mkdir combi.buildbin-libdir && F:\biocbuild\bbs-3.20-bioc\R\bin\R.exe CMD INSTALL --build --library=combi.buildbin-libdir combi_1.18.0.tar.gz StartedAt: 2025-01-28 07:54:25 -0500 (Tue, 28 Jan 2025) EndedAt: 2025-01-28 07:55:25 -0500 (Tue, 28 Jan 2025) EllapsedTime: 60.8 seconds RetCode: 0 Status: OK PackageFile: combi_1.18.0.zip PackageFileSize: 1.389 MiB