Package: combi Version: 1.18.0 Command: /Library/Frameworks/R.framework/Resources/bin/R CMD INSTALL combi StartedAt: 2025-02-03 16:28:09 -0500 (Mon, 03 Feb 2025) EndedAt: 2025-02-03 16:29:17 -0500 (Mon, 03 Feb 2025) EllapsedTime: 67.4 seconds RetCode: 0 Status: OK