Package: comapr Version: 1.10.0 Command: /home/biocbuild/bbs-3.20-bioc/R/bin/R CMD check --install=check:comapr.install-out.txt --library=/home/biocbuild/bbs-3.20-bioc/R/site-library --timings comapr_1.10.0.tar.gz StartedAt: 2025-02-03 21:11:04 -0500 (Mon, 03 Feb 2025) EndedAt: 2025-02-03 21:17:58 -0500 (Mon, 03 Feb 2025) EllapsedTime: 413.3 seconds RetCode: 1 Status: ERROR CheckDir: comapr.Rcheck Warnings: NA