Package: comapr Version: 1.10.0 Command: rm -rf comapr.buildbin-libdir && mkdir comapr.buildbin-libdir && /Users/biocbuild/BBS/utils/build-universal.sh comapr_1.10.0.tar.gz /Library/Frameworks/R.framework/Resources/bin/R comapr.buildbin-libdir StartedAt: 2025-04-01 11:38:48 -0400 (Tue, 01 Apr 2025) EndedAt: 2025-04-01 11:40:34 -0400 (Tue, 01 Apr 2025) EllapsedTime: 105.8 seconds RetCode: 0 Status: OK PackageFile: comapr_1.10.0.tgz PackageFileSize: 1.074 MiB