Package: cogeqc Version: 1.10.0 Command: /home/biocbuild/R/R/bin/R CMD INSTALL cogeqc StartedAt: 2025-02-03 20:49:11 -0000 (Mon, 03 Feb 2025) EndedAt: 2025-02-03 20:49:29 -0000 (Mon, 03 Feb 2025) EllapsedTime: 17.3 seconds RetCode: 0 Status: OK