Package: cogeqc Version: 1.10.0 Command: /home/biocbuild/R/R/bin/R CMD build --keep-empty-dirs --no-resave-data cogeqc StartedAt: 2025-02-03 22:44:17 -0000 (Mon, 03 Feb 2025) EndedAt: 2025-02-03 22:46:18 -0000 (Mon, 03 Feb 2025) EllapsedTime: 121.0 seconds RetCode: 0 Status: OK PackageFile: cogeqc_1.10.0.tar.gz PackageFileSize: 2.582 MiB