Package: cogeqc Version: 1.10.0 Command: /home/biocbuild/bbs-3.20-bioc/R/bin/R CMD INSTALL cogeqc StartedAt: 2025-03-31 15:31:12 -0400 (Mon, 31 Mar 2025) EndedAt: 2025-03-31 15:31:25 -0400 (Mon, 31 Mar 2025) EllapsedTime: 13.5 seconds RetCode: 0 Status: OK