Package: codelink Version: 1.74.0 Command: rm -rf codelink.buildbin-libdir && mkdir codelink.buildbin-libdir && F:\biocbuild\bbs-3.20-bioc\R\bin\R.exe CMD INSTALL --build --library=codelink.buildbin-libdir codelink_1.74.0.tar.gz StartedAt: 2025-02-04 08:14:48 -0500 (Tue, 04 Feb 2025) EndedAt: 2025-02-04 08:15:54 -0500 (Tue, 04 Feb 2025) EllapsedTime: 65.8 seconds RetCode: 0 Status: OK PackageFile: codelink_1.74.0.zip PackageFileSize: 3.571 MiB