Package: codelink Version: 1.74.0 Command: /home/biocbuild/bbs-3.20-bioc/R/bin/R CMD check --install=check:codelink.install-out.txt --library=/home/biocbuild/bbs-3.20-bioc/R/site-library --timings codelink_1.74.0.tar.gz StartedAt: 2025-02-03 21:09:51 -0500 (Mon, 03 Feb 2025) EndedAt: 2025-02-03 21:11:53 -0500 (Mon, 03 Feb 2025) EllapsedTime: 122.1 seconds RetCode: 0 Status: OK CheckDir: codelink.Rcheck Warnings: 0