Package: codelink Version: 1.74.0 Command: /Library/Frameworks/R.framework/Resources/bin/R CMD INSTALL codelink StartedAt: 2025-02-03 15:41:29 -0500 (Mon, 03 Feb 2025) EndedAt: 2025-02-03 15:41:39 -0500 (Mon, 03 Feb 2025) EllapsedTime: 9.6 seconds RetCode: 0 Status: OK