Package: coMethDMR Version: 1.10.0 Command: /home/biocbuild/R/R/bin/R CMD check --install=check:coMethDMR.install-out.txt --library=/home/biocbuild/R/R/site-library --no-vignettes --timings coMethDMR_1.10.0.tar.gz StartedAt: 2025-02-04 05:50:34 -0000 (Tue, 04 Feb 2025) EndedAt: 2025-02-04 06:04:03 -0000 (Tue, 04 Feb 2025) EllapsedTime: 808.7 seconds RetCode: 0 Status: WARNINGS CheckDir: coMethDMR.Rcheck Warnings: 1