Package: coMethDMR Version: 1.10.0 Command: /home/biocbuild/R/R/bin/R CMD build --keep-empty-dirs --no-resave-data coMethDMR StartedAt: 2025-01-27 23:29:58 -0000 (Mon, 27 Jan 2025) EndedAt: 2025-01-27 23:36:19 -0000 (Mon, 27 Jan 2025) EllapsedTime: 380.1 seconds RetCode: 0 Status: OK PackageFile: coMethDMR_1.10.0.tar.gz PackageFileSize: 3.116 MiB