Package: coMethDMR Version: 1.10.0 Command: rm -rf coMethDMR.buildbin-libdir && mkdir coMethDMR.buildbin-libdir && F:\biocbuild\bbs-3.20-bioc\R\bin\R.exe CMD INSTALL --build --library=coMethDMR.buildbin-libdir coMethDMR_1.10.0.tar.gz StartedAt: 2025-01-31 08:25:21 -0500 (Fri, 31 Jan 2025) EndedAt: 2025-01-31 08:26:35 -0500 (Fri, 31 Jan 2025) EllapsedTime: 74.5 seconds RetCode: 0 Status: OK PackageFile: coMethDMR_1.10.0.zip PackageFileSize: 3.156 MiB