Package: coMethDMR Version: 1.10.0 Command: /Library/Frameworks/R.framework/Resources/bin/R CMD build --keep-empty-dirs --no-resave-data coMethDMR StartedAt: 2025-02-03 18:02:21 -0500 (Mon, 03 Feb 2025) EndedAt: 2025-02-03 18:09:49 -0500 (Mon, 03 Feb 2025) EllapsedTime: 447.7 seconds RetCode: 0 Status: OK PackageFile: coMethDMR_1.10.0.tar.gz PackageFileSize: 3.103 MiB