Package: coMethDMR Version: 1.10.0 Command: rm -rf coMethDMR.buildbin-libdir && mkdir coMethDMR.buildbin-libdir && /Users/biocbuild/BBS/utils/build-universal.sh coMethDMR_1.10.0.tar.gz /Library/Frameworks/R.framework/Resources/bin/R coMethDMR.buildbin-libdir StartedAt: 2025-02-04 12:42:25 -0500 (Tue, 04 Feb 2025) EndedAt: 2025-02-04 12:44:08 -0500 (Tue, 04 Feb 2025) EllapsedTime: 102.8 seconds RetCode: 0 Status: OK PackageFile: coMethDMR_1.10.0.tgz PackageFileSize: 3.173 MiB