Package: coMET Version: 1.38.0 Command: F:\biocbuild\bbs-3.20-bioc\R\bin\R.exe CMD INSTALL coMET StartedAt: 2025-03-31 16:19:12 -0400 (Mon, 31 Mar 2025) EndedAt: 2025-03-31 16:21:03 -0400 (Mon, 31 Mar 2025) EllapsedTime: 111.9 seconds RetCode: 0 Status: OK