Package: coMET Version: 1.38.0 Command: F:\biocbuild\bbs-3.20-bioc\R\bin\R.exe CMD check --no-multiarch --install=check:coMET.install-out.txt --library=F:\biocbuild\bbs-3.20-bioc\R\library --no-vignettes --timings coMET_1.38.0.tar.gz StartedAt: 2025-04-01 00:16:19 -0400 (Tue, 01 Apr 2025) EndedAt: 2025-04-01 00:26:10 -0400 (Tue, 01 Apr 2025) EllapsedTime: 591.1 seconds RetCode: 1 Status: ERROR CheckDir: coMET.Rcheck Warnings: NA