Package: coMET Version: 1.38.0 Command: rm -rf coMET.buildbin-libdir && mkdir coMET.buildbin-libdir && F:\biocbuild\bbs-3.20-bioc\R\bin\R.exe CMD INSTALL --build --library=coMET.buildbin-libdir coMET_1.38.0.tar.gz StartedAt: 2025-04-01 07:57:13 -0400 (Tue, 01 Apr 2025) EndedAt: 2025-04-01 07:58:52 -0400 (Tue, 01 Apr 2025) EllapsedTime: 98.7 seconds RetCode: 0 Status: OK PackageFile: coMET_1.38.0.zip PackageFileSize: 21.81 MiB