Package: coMET Version: 1.38.0 Command: /Library/Frameworks/R.framework/Resources/bin/R CMD INSTALL coMET StartedAt: 2025-03-31 16:42:51 -0400 (Mon, 31 Mar 2025) EndedAt: 2025-03-31 16:43:55 -0400 (Mon, 31 Mar 2025) EllapsedTime: 63.8 seconds RetCode: 0 Status: OK