Package: coMET Version: 1.38.0 Command: /Library/Frameworks/R.framework/Resources/bin/R CMD build --keep-empty-dirs --no-resave-data coMET StartedAt: 2025-03-31 21:11:19 -0400 (Mon, 31 Mar 2025) EndedAt: 2025-03-31 21:14:26 -0400 (Mon, 31 Mar 2025) EllapsedTime: 186.7 seconds RetCode: 0 Status: OK PackageFile: coMET_1.38.0.tar.gz PackageFileSize: 21.83 MiB