Package: cnvGSA Version: 1.50.0 Command: /home/biocbuild/R/R/bin/R CMD build --keep-empty-dirs --no-resave-data cnvGSA StartedAt: 2025-03-31 22:38:05 -0000 (Mon, 31 Mar 2025) EndedAt: 2025-03-31 22:38:21 -0000 (Mon, 31 Mar 2025) EllapsedTime: 16.0 seconds RetCode: 0 Status: OK PackageFile: cnvGSA_1.50.0.tar.gz PackageFileSize: 330.7 KiB