Package: cnvGSA Version: 1.50.0 Command: chmod a+r cnvGSA -R && F:\biocbuild\bbs-3.20-bioc\R\bin\R.exe CMD build --keep-empty-dirs --no-resave-data cnvGSA StartedAt: 2025-03-31 18:05:54 -0400 (Mon, 31 Mar 2025) EndedAt: 2025-03-31 18:06:19 -0400 (Mon, 31 Mar 2025) EllapsedTime: 25.0 seconds RetCode: 0 Status: OK PackageFile: cnvGSA_1.50.0.tar.gz PackageFileSize: 260.8 KiB