Package: cnvGSA Version: 1.50.0 Command: /home/biocbuild/bbs-3.20-bioc/R/bin/R CMD check --install=check:cnvGSA.install-out.txt --library=/home/biocbuild/bbs-3.20-bioc/R/site-library --timings cnvGSA_1.50.0.tar.gz StartedAt: 2025-03-31 20:55:45 -0400 (Mon, 31 Mar 2025) EndedAt: 2025-03-31 20:56:52 -0400 (Mon, 31 Mar 2025) EllapsedTime: 66.1 seconds RetCode: 0 Status: OK CheckDir: cnvGSA.Rcheck Warnings: 0