Package: cnvGSA Version: 1.50.0 Command: /Library/Frameworks/R.framework/Resources/bin/R CMD INSTALL cnvGSA StartedAt: 2025-03-31 15:14:16 -0400 (Mon, 31 Mar 2025) EndedAt: 2025-03-31 15:14:40 -0400 (Mon, 31 Mar 2025) EllapsedTime: 23.8 seconds RetCode: 0 Status: OK