Package: cnvGSA Version: 1.50.0 Command: /Library/Frameworks/R.framework/Resources/bin/R CMD build --keep-empty-dirs --no-resave-data cnvGSA StartedAt: 2024-11-19 16:21:18 -0500 (Tue, 19 Nov 2024) EndedAt: 2024-11-19 16:21:38 -0500 (Tue, 19 Nov 2024) EllapsedTime: 20.6 seconds RetCode: 0 Status: OK PackageFile: cnvGSA_1.50.0.tar.gz PackageFileSize: 334 KiB