Package: cnvGSA Version: 1.50.0 Command: /Library/Frameworks/R.framework/Resources/bin/R CMD check --install=check:cnvGSA.install-out.txt --library=/Library/Frameworks/R.framework/Resources/library --no-vignettes --timings cnvGSA_1.50.0.tar.gz StartedAt: 2025-04-01 14:40:37 -0400 (Tue, 01 Apr 2025) EndedAt: 2025-04-01 14:42:02 -0400 (Tue, 01 Apr 2025) EllapsedTime: 85.1 seconds RetCode: 0 Status: OK CheckDir: cnvGSA.Rcheck Warnings: 0