Package: cnvGSA Version: 1.50.0 Command: rm -rf cnvGSA.buildbin-libdir && mkdir cnvGSA.buildbin-libdir && /Users/biocbuild/BBS/utils/build-universal.sh cnvGSA_1.50.0.tar.gz /Library/Frameworks/R.framework/Resources/bin/R cnvGSA.buildbin-libdir StartedAt: 2025-04-02 13:47:35 -0400 (Wed, 02 Apr 2025) EndedAt: 2025-04-02 13:47:49 -0400 (Wed, 02 Apr 2025) EllapsedTime: 13.7 seconds RetCode: 0 Status: OK PackageFile: cnvGSA_1.50.0.tgz PackageFileSize: 430.5 KiB