Package: cn.farms Version: 1.54.0 Command: /home/biocbuild/bbs-3.20-bioc/R/bin/R CMD build --keep-empty-dirs --no-resave-data --md5 cn.farms StartedAt: 2025-01-27 17:39:16 -0500 (Mon, 27 Jan 2025) EndedAt: 2025-01-27 17:40:01 -0500 (Mon, 27 Jan 2025) EllapsedTime: 45.0 seconds RetCode: 0 Status: OK PackageFile: cn.farms_1.54.0.tar.gz PackageFileSize: 2.294 MiB