Package: cn.farms Version: 1.54.0 Command: /Library/Frameworks/R.framework/Resources/bin/R CMD check --install=check:cn.farms.install-out.txt --library=/Library/Frameworks/R.framework/Resources/library --no-vignettes --timings cn.farms_1.54.0.tar.gz StartedAt: 2025-04-01 00:56:57 -0400 (Tue, 01 Apr 2025) EndedAt: 2025-04-01 01:05:03 -0400 (Tue, 01 Apr 2025) EllapsedTime: 486.0 seconds RetCode: 0 Status: OK CheckDir: cn.farms.Rcheck Warnings: 0