Package: cmapR Version: 1.18.0 Command: /home/biocbuild/R/R/bin/R CMD build --keep-empty-dirs --no-resave-data cmapR StartedAt: 2025-01-27 23:25:57 -0000 (Mon, 27 Jan 2025) EndedAt: 2025-01-27 23:27:05 -0000 (Mon, 27 Jan 2025) EllapsedTime: 68.0 seconds RetCode: 0 Status: OK PackageFile: cmapR_1.18.0.tar.gz PackageFileSize: 3.756 MiB