Package: cmapR Version: 1.18.0 Command: /home/biocbuild/bbs-3.20-bioc/R/bin/R CMD check --install=check:cmapR.install-out.txt --library=/home/biocbuild/bbs-3.20-bioc/R/site-library --timings cmapR_1.18.0.tar.gz StartedAt: 2025-02-03 21:06:44 -0500 (Mon, 03 Feb 2025) EndedAt: 2025-02-03 21:09:51 -0500 (Mon, 03 Feb 2025) EllapsedTime: 187.2 seconds RetCode: 0 Status: OK CheckDir: cmapR.Rcheck Warnings: 0