Package: cmapR Version: 1.18.0 Command: /Library/Frameworks/R.framework/Resources/bin/R CMD INSTALL cmapR StartedAt: 2025-01-27 15:25:13 -0500 (Mon, 27 Jan 2025) EndedAt: 2025-01-27 15:25:44 -0500 (Mon, 27 Jan 2025) EllapsedTime: 30.2 seconds RetCode: 0 Status: OK