Package: clustifyr Version: 1.18.0 Command: /home/biocbuild/bbs-3.20-bioc/R/bin/R CMD INSTALL clustifyr StartedAt: 2025-03-31 15:43:47 -0400 (Mon, 31 Mar 2025) EndedAt: 2025-03-31 15:44:17 -0400 (Mon, 31 Mar 2025) EllapsedTime: 30.2 seconds RetCode: 0 Status: OK