Package: clustifyr Version: 1.18.0 Command: /Library/Frameworks/R.framework/Resources/bin/R CMD INSTALL clustifyr StartedAt: 2025-01-27 17:12:08 -0500 (Mon, 27 Jan 2025) EndedAt: 2025-01-27 17:12:45 -0500 (Mon, 27 Jan 2025) EllapsedTime: 37.4 seconds RetCode: 0 Status: OK