Package: clustifyr Version: 1.18.0 Command: /Library/Frameworks/R.framework/Resources/bin/R CMD check --install=check:clustifyr.install-out.txt --library=/Library/Frameworks/R.framework/Resources/library --no-vignettes --timings clustifyr_1.18.0.tar.gz StartedAt: 2025-01-28 14:37:33 -0500 (Tue, 28 Jan 2025) EndedAt: 2025-01-28 14:52:32 -0500 (Tue, 28 Jan 2025) EllapsedTime: 899.3 seconds RetCode: 0 Status: OK CheckDir: clustifyr.Rcheck Warnings: 0