Package: clusterStab Version: 1.78.0 Command: /home/biocbuild/R/R/bin/R CMD INSTALL clusterStab StartedAt: 2025-01-27 21:03:08 -0000 (Mon, 27 Jan 2025) EndedAt: 2025-01-27 21:03:28 -0000 (Mon, 27 Jan 2025) EllapsedTime: 20.2 seconds RetCode: 0 Status: OK