Package: clusterStab Version: 1.78.0 Command: /Library/Frameworks/R.framework/Resources/bin/R CMD build --keep-empty-dirs --no-resave-data clusterStab StartedAt: 2025-03-31 20:57:08 -0400 (Mon, 31 Mar 2025) EndedAt: 2025-03-31 20:57:27 -0400 (Mon, 31 Mar 2025) EllapsedTime: 19.3 seconds RetCode: 0 Status: OK PackageFile: clusterStab_1.78.0.tar.gz PackageFileSize: 185.3 KiB