Package: clusterSeq Version: 1.30.0 Command: /home/biocbuild/R/R/bin/R CMD build --keep-empty-dirs --no-resave-data clusterSeq StartedAt: 2025-01-30 22:41:59 -0000 (Thu, 30 Jan 2025) EndedAt: 2025-01-30 22:43:24 -0000 (Thu, 30 Jan 2025) EllapsedTime: 85.0 seconds RetCode: 0 Status: OK PackageFile: clusterSeq_1.30.0.tar.gz PackageFileSize: 1 MiB