Package: clusterSeq Version: 1.30.0 Command: F:\biocbuild\bbs-3.20-bioc\R\bin\R.exe CMD INSTALL clusterSeq StartedAt: 2025-03-31 15:42:42 -0400 (Mon, 31 Mar 2025) EndedAt: 2025-03-31 15:43:06 -0400 (Mon, 31 Mar 2025) EllapsedTime: 23.6 seconds RetCode: 0 Status: OK