Package: clusterSeq Version: 1.30.0 Command: rm -rf clusterSeq.buildbin-libdir && mkdir clusterSeq.buildbin-libdir && F:\biocbuild\bbs-3.20-bioc\R\bin\R.exe CMD INSTALL --build --library=clusterSeq.buildbin-libdir clusterSeq_1.30.0.tar.gz StartedAt: 2025-04-01 07:55:50 -0400 (Tue, 01 Apr 2025) EndedAt: 2025-04-01 07:56:10 -0400 (Tue, 01 Apr 2025) EllapsedTime: 20.5 seconds RetCode: 0 Status: OK PackageFile: clusterSeq_1.30.0.zip PackageFileSize: 1.057 MiB