Package: clusterProfiler Version: 4.14.4 Command: /home/biocbuild/R/R/bin/R CMD build --keep-empty-dirs --no-resave-data clusterProfiler StartedAt: 2025-01-27 23:24:59 -0000 (Mon, 27 Jan 2025) EndedAt: 2025-01-27 23:25:32 -0000 (Mon, 27 Jan 2025) EllapsedTime: 33.0 seconds RetCode: 0 Status: OK PackageFile: clusterProfiler_4.14.4.tar.gz PackageFileSize: 611.6 KiB