Package: clusterProfiler Version: 4.14.6 Command: /Library/Frameworks/R.framework/Resources/bin/R CMD INSTALL clusterProfiler StartedAt: 2025-03-31 17:14:31 -0400 (Mon, 31 Mar 2025) EndedAt: 2025-03-31 17:14:58 -0400 (Mon, 31 Mar 2025) EllapsedTime: 27.5 seconds RetCode: 0 Status: OK