Package: clusterExperiment Version: 2.26.0 Command: /home/biocbuild/R/R/bin/R CMD check --install=check:clusterExperiment.install-out.txt --library=/home/biocbuild/R/R/site-library --no-vignettes --timings clusterExperiment_2.26.0.tar.gz StartedAt: 2025-04-01 05:08:50 -0000 (Tue, 01 Apr 2025) EndedAt: 2025-04-01 05:28:59 -0000 (Tue, 01 Apr 2025) EllapsedTime: 1209.0 seconds RetCode: 0 Status: WARNINGS CheckDir: clusterExperiment.Rcheck Warnings: 2